BEGIN:VCALENDAR
VERSION:2.0
PRODID:-//wp-events-plugin.com//7.2.3.1//EN
TZID:Europe/London
X-WR-TIMEZONE:Europe/London
BEGIN:VEVENT
UID:122@marielwitmond.com
DTSTART;TZID=Europe/London:20231213T123000
DTEND;TZID=Europe/London:20231213T140000
DTSTAMP:20231204T214232Z
URL:https://marielwitmond.com/schedule/unlock-your-energetic-potential/
SUMMARY:Unlock Your Energetic Potential!
DESCRIPTION:Calling all women who are ready to embrace the transformative p
 ower of their menstrual cycles! Join us for an empowering and insightful w
 ebinar\, "Energetic Empowerment: Thriving Through Your Menstrual Cycle\," 
 where we'll explore the incredible journey of energy ebb and flow that com
 es with each phase of your cycle. Discover the secrets to harnessing the u
 nique energies of menstruation\, follicular\, ovulatory\, and luteal phase
 s\, and learn practical tools for aligning your activities with your natur
 al rhythms.\n\n🌸 Imagine a life where you not only understand your body
  but also leverage its innate strengths for success and well-being. From r
 estful introspection in the menstrual phase to strategic goal-setting in t
 he follicular phase\, effective communication in the ovulatory phase\, and
  mindful self-care in the luteal phase – this webinar will guide you thr
 ough it all. Join our supportive community\, share experiences\, and embar
 k on a journey toward greater self-discovery and empowerment. Don't miss t
 his opportunity to thrive in sync with your own rhythm! 🚀💫\n\n📅 D
 ate: Wednesday\, November 13th\n\n⏰ Time: 12:30pm\n\n📍 Register Now: 
 https://us06web.zoom.us/meeting/register/tZUtce2uqDsiHNNGg1CHqi5xXWh6KykJT
 Qvs
CATEGORIES:Coaching
END:VEVENT
BEGIN:VTIMEZONE
TZID:Europe/London
X-LIC-LOCATION:Europe/London
BEGIN:STANDARD
DTSTART:20231029T010000
TZOFFSETFROM:+0100
TZOFFSETTO:+0000
TZNAME:GMT
END:STANDARD
END:VTIMEZONE
END:VCALENDAR