BEGIN:VCALENDAR
VERSION:2.0
PRODID:-//wp-events-plugin.com//7.2.3.1//EN
TZID:Europe/London
X-WR-TIMEZONE:Europe/London
BEGIN:VEVENT
UID:102@marielwitmond.com
DTSTART;TZID=Europe/London:20220911T090000
DTEND;TZID=Europe/London:20220911T100000
DTSTAMP:20220909T151511Z
URL:https://marielwitmond.com/schedule/sunday-community-soul-flow/
SUMMARY:Sunday Community Soul Flow
DESCRIPTION:We are back for our community practice! Join me on Sunday for a
  creative and dynamic vinyasa yoga sequence. Build strength and improve mo
 bility as we follow our breath through a meditative flow set to some fun t
 unes.
CATEGORIES:Live Class,Live Classes,Yoga
LOCATION:https://kuula.tv/mindfulsonder
END:VEVENT
BEGIN:VTIMEZONE
TZID:Europe/London
X-LIC-LOCATION:Europe/London
BEGIN:DAYLIGHT
DTSTART:20220327T020000
TZOFFSETFROM:+0000
TZOFFSETTO:+0100
TZNAME:BST
END:DAYLIGHT
END:VTIMEZONE
END:VCALENDAR