BEGIN:VCALENDAR
VERSION:2.0
PRODID:-//wp-events-plugin.com//7.2.3.1//EN
TZID:Europe/London
X-WR-TIMEZONE:Europe/London
BEGIN:VEVENT
UID:115@marielwitmond.com
DTSTART;TZID=Europe/London:20221030T090000
DTEND;TZID=Europe/London:20221030T100000
DTSTAMP:20221026T165911Z
URL:https://marielwitmond.com/schedule/sunday-community-soul-flow-3/
SUMMARY:Sunday Community Soul Flow
DESCRIPTION:We are back for our community practice! Join me on Sunday for a
  creative and dynamic vinyasa yoga sequence. Build strength and improve mo
 bility as we follow our breath through a meditative flow set to some fun t
 unes.
CATEGORIES:Live Class,Live Classes,Yoga
LOCATION:https://kuula.tv/mindfulsonder/class/EPsMMgTexQkYVbWFtolg1nkIe2T6N
 uC5zxdIbnPj
END:VEVENT
BEGIN:VTIMEZONE
TZID:Europe/London
X-LIC-LOCATION:Europe/London
BEGIN:STANDARD
DTSTART:20221030T010000
TZOFFSETFROM:+0100
TZOFFSETTO:+0000
TZNAME:GMT
END:STANDARD
END:VTIMEZONE
END:VCALENDAR