BEGIN:VCALENDAR
VERSION:2.0
PRODID:-//wp-events-plugin.com//7.2.3.1//EN
TZID:Europe/London
X-WR-TIMEZONE:Europe/London
BEGIN:VEVENT
UID:100@marielwitmond.com
DTSTART;TZID=Europe/London:20220612T090000
DTEND;TZID=Europe/London:20220612T100000
DTSTAMP:20220606T122102Z
URL:https://marielwitmond.com/schedule/sunday-community-flow/
SUMMARY:Sunday Community Flow
DESCRIPTION:
CATEGORIES:Live Classes,Yoga
LOCATION:https://kuula.tv/mindfulsonder/class/piUE1bqmUIWkwx5PVtjlNaJ07Yxww
 9IVHYdj1vpE
END:VEVENT
BEGIN:VTIMEZONE
TZID:Europe/London
X-LIC-LOCATION:Europe/London
BEGIN:DAYLIGHT
DTSTART:20220327T020000
TZOFFSETFROM:+0000
TZOFFSETTO:+0100
TZNAME:BST
END:DAYLIGHT
END:VTIMEZONE
END:VCALENDAR