BEGIN:VCALENDAR
VERSION:2.0
PRODID:-//wp-events-plugin.com//7.2.3.1//EN
TZID:Europe/London
X-WR-TIMEZONE:Europe/London
BEGIN:VEVENT
UID:45@marielwitmond.com
DTSTART;TZID=Europe/London:20211023T000000
DTEND;TZID=Europe/London:20211023T000000
DTSTAMP:20210930T084210Z
URL:https://marielwitmond.com/schedule/meditation-on-affirmations/
SUMMARY:Meditation on Affirmations
DESCRIPTION:
CATEGORIES:Meditation
LOCATION:https://kuula.tv/mindfulsonder/library/files/pwioew6uKqPgUj1VPQRZv
 wcX2RgrGqheebgimREJ
END:VEVENT
BEGIN:VTIMEZONE
TZID:Europe/London
X-LIC-LOCATION:Europe/London
BEGIN:DAYLIGHT
DTSTART:20210328T020000
TZOFFSETFROM:+0000
TZOFFSETTO:+0100
TZNAME:BST
END:DAYLIGHT
END:VTIMEZONE
END:VCALENDAR