BEGIN:VCALENDAR
VERSION:2.0
PRODID:-//wp-events-plugin.com//7.2.3.1//EN
TZID:Europe/London
X-WR-TIMEZONE:Europe/London
BEGIN:VEVENT
UID:24@marielwitmond.com
DTSTART;TZID=Europe/London:20210926T093000
DTEND;TZID=Europe/London:20210926T103000
DTSTAMP:20210922T083001Z
URL:https://marielwitmond.com/schedule/live-yoga-class/
SUMMARY:Live Yoga Class
DESCRIPTION:
CATEGORIES:1 Hour Vinyasa,Yoga
LOCATION:https://kuula.tv/mindfulsonder/class/VfSBPQhoXyHdcVoXbSE6VRVg3f2oC
 reUMXeKbTDp
END:VEVENT
BEGIN:VTIMEZONE
TZID:Europe/London
X-LIC-LOCATION:Europe/London
BEGIN:DAYLIGHT
DTSTART:20210328T020000
TZOFFSETFROM:+0000
TZOFFSETTO:+0100
TZNAME:BST
END:DAYLIGHT
END:VTIMEZONE
END:VCALENDAR