BEGIN:VCALENDAR
VERSION:2.0
PRODID:-//wp-events-plugin.com//7.2.3.1//EN
TZID:Europe/London
X-WR-TIMEZONE:Europe/London
BEGIN:VEVENT
UID:117@marielwitmond.com
DTSTART;TZID=Europe/London:20221112T124500
DTEND;TZID=Europe/London:20221112T134500
DTSTAMP:20221110T141356Z
URL:https://marielwitmond.com/schedule/in-person-class-pyc-8/
SUMMARY:In Person Class @ PYC
DESCRIPTION:
CATEGORIES:Live Classes,Yoga
LOCATION:https://momence.com/plugin/hybrid/?o=26059101&s=2413861
END:VEVENT
BEGIN:VTIMEZONE
TZID:Europe/London
X-LIC-LOCATION:Europe/London
BEGIN:STANDARD
DTSTART:20221030T010000
TZOFFSETFROM:+0100
TZOFFSETTO:+0000
TZNAME:GMT
END:STANDARD
END:VTIMEZONE
END:VCALENDAR