BEGIN:VCALENDAR
VERSION:2.0
PRODID:-//wp-events-plugin.com//7.2.3.1//EN
TZID:Europe/London
X-WR-TIMEZONE:Europe/London
BEGIN:VEVENT
UID:112@marielwitmond.com
DTSTART;TZID=Europe/London:20221022T124500
DTEND;TZID=Europe/London:20221022T134500
DTSTAMP:20221007T095923Z
URL:https://marielwitmond.com/schedule/in-person-class-pyc-6/
SUMMARY:In Person Class @ PYC
DESCRIPTION:
CATEGORIES:Live Classes,Yoga
LOCATION:https://thepoweryogaco.com/hybrid-plugin/
END:VEVENT
BEGIN:VTIMEZONE
TZID:Europe/London
X-LIC-LOCATION:Europe/London
BEGIN:DAYLIGHT
DTSTART:20220327T020000
TZOFFSETFROM:+0000
TZOFFSETTO:+0100
TZNAME:BST
END:DAYLIGHT
END:VTIMEZONE
END:VCALENDAR