BEGIN:VCALENDAR
VERSION:2.0
PRODID:-//wp-events-plugin.com//7.2.3.1//EN
TZID:Europe/London
X-WR-TIMEZONE:Europe/London
BEGIN:VEVENT
UID:1@marielwitmond.com
DTSTART;TZID=Europe/London:20210808T093000
DTEND;TZID=Europe/London:20210808T103000
DTSTAMP:20210930T082010Z
URL:https://marielwitmond.com/schedule/dynamic-vinyasa-flow-soulful-sunday
 /
SUMMARY:Dynamic Vinyasa Flow - Soulful Sunday
DESCRIPTION:
CATEGORIES:Live Class,Live Classes,Yoga
LOCATION:https://kuula.tv/mindfulsonder/class/fEBbWkyHYyCKjxCAnl60E0Zuv7Uxr
 SbXShRWXn3J
END:VEVENT
BEGIN:VTIMEZONE
TZID:Europe/London
X-LIC-LOCATION:Europe/London
BEGIN:DAYLIGHT
DTSTART:20210328T020000
TZOFFSETFROM:+0000
TZOFFSETTO:+0100
TZNAME:BST
END:DAYLIGHT
END:VTIMEZONE
END:VCALENDAR