BEGIN:VCALENDAR
VERSION:2.0
PRODID:-//wp-events-plugin.com//7.2.3.1//EN
TZID:Europe/London
X-WR-TIMEZONE:Europe/London
BEGIN:VEVENT
UID:116@marielwitmond.com
DTSTART;TZID=Europe/London:20221113T090000
DTEND;TZID=Europe/London:20221113T100000
DTSTAMP:20221110T141307Z
URL:https://marielwitmond.com/schedule/dynamic-vinyasa-flow-soulful-sunday
 -8/
SUMMARY:Dynamic Vinyasa Flow - Soulful Sunday
DESCRIPTION:
CATEGORIES:Live Class,Live Classes,Yoga
LOCATION:https://kuula.tv/mindfulsonder/schedule
END:VEVENT
BEGIN:VTIMEZONE
TZID:Europe/London
X-LIC-LOCATION:Europe/London
BEGIN:STANDARD
DTSTART:20221030T010000
TZOFFSETFROM:+0100
TZOFFSETTO:+0000
TZNAME:GMT
END:STANDARD
END:VTIMEZONE
END:VCALENDAR