BEGIN:VCALENDAR
VERSION:2.0
PRODID:-//wp-events-plugin.com//7.2.3.1//EN
TZID:Europe/London
X-WR-TIMEZONE:Europe/London
BEGIN:VEVENT
UID:108@marielwitmond.com
DTSTART;TZID=Europe/London:20221009T090000
DTEND;TZID=Europe/London:20221009T100000
DTSTAMP:20221007T095835Z
URL:https://marielwitmond.com/schedule/dynamic-vinyasa-flow-soulful-sunday
 -5/
SUMMARY:Dynamic Vinyasa Flow - Soulful Sunday
DESCRIPTION:
CATEGORIES:Live Class,Live Classes,Yoga
LOCATION:https://kuula.tv/mindfulsonder/class/gvetX9hfI7Qs3RMiq9KXusGZM9iCu
 1021fwwQu7M
END:VEVENT
BEGIN:VTIMEZONE
TZID:Europe/London
X-LIC-LOCATION:Europe/London
BEGIN:DAYLIGHT
DTSTART:20220327T020000
TZOFFSETFROM:+0000
TZOFFSETTO:+0100
TZNAME:BST
END:DAYLIGHT
END:VTIMEZONE
END:VCALENDAR