BEGIN:VCALENDAR
VERSION:2.0
PRODID:-//wp-events-plugin.com//7.2.3.1//EN
TZID:Europe/London
X-WR-TIMEZONE:Europe/London
BEGIN:VEVENT
UID:99@marielwitmond.com
DTSTART;TZID=Europe/London:20220519T183000
DTEND;TZID=Europe/London:20220519T193000
DTSTAMP:20220421T120808Z
URL:https://marielwitmond.com/schedule/dive-into-yin-full-body-2/
SUMMARY:Dive Into Yin - Full Body
DESCRIPTION:
CATEGORIES:Slow Flow/Yin
LOCATION:https://kuula.tv/mindfulsonder/library/files/cjIdZzNKHblF2a3vkfFla
 fYv5DhPjIXF3TcF2DRF
END:VEVENT
BEGIN:VTIMEZONE
TZID:Europe/London
X-LIC-LOCATION:Europe/London
BEGIN:DAYLIGHT
DTSTART:20220327T020000
TZOFFSETFROM:+0000
TZOFFSETTO:+0100
TZNAME:BST
END:DAYLIGHT
END:VTIMEZONE
END:VCALENDAR