BEGIN:VCALENDAR
VERSION:2.0
PRODID:-//wp-events-plugin.com//7.2.3.1//EN
TZID:Europe/London
X-WR-TIMEZONE:Europe/London
BEGIN:VEVENT
UID:32@marielwitmond.com
DTSTART;TZID=Europe/London:20211003T093000
DTEND;TZID=Europe/London:20211003T103000
DTSTAMP:20210930T072039Z
URL:https://marielwitmond.com/schedule/community-soul-flow-live-class/
SUMMARY:Community Soul Flow - Live Class
DESCRIPTION:
CATEGORIES:1 Hour Vinyasa,Yoga
LOCATION:https://kuula.tv/mindfulsonder/class/1R2eMFe2qr59bjiiLYOvviAXnOW0u
 mitvf4YD8Yl
END:VEVENT
BEGIN:VTIMEZONE
TZID:Europe/London
X-LIC-LOCATION:Europe/London
BEGIN:DAYLIGHT
DTSTART:20210328T020000
TZOFFSETFROM:+0000
TZOFFSETTO:+0100
TZNAME:BST
END:DAYLIGHT
END:VTIMEZONE
END:VCALENDAR