BEGIN:VCALENDAR
VERSION:2.0
PRODID:-//wp-events-plugin.com//7.2.3.1//EN
TZID:Europe/London
X-WR-TIMEZONE:Europe/London
BEGIN:VEVENT
UID:40@marielwitmond.com
DTSTART;TZID=Europe/London:20211031T093000
DTEND;TZID=Europe/London:20211031T103000
DTSTAMP:20210930T082342Z
URL:https://marielwitmond.com/schedule/community-soul-flow-live-class-5/
SUMMARY:Community Soul Flow - Live Class
DESCRIPTION:
CATEGORIES:1 Hour Vinyasa,Live Classes,Yoga
LOCATION:https://kuula.tv/mindfulsonder/schedule
END:VEVENT
BEGIN:VTIMEZONE
TZID:Europe/London
X-LIC-LOCATION:Europe/London
BEGIN:STANDARD
DTSTART:20211031T010000
TZOFFSETFROM:+0100
TZOFFSETTO:+0000
TZNAME:GMT
END:STANDARD
END:VTIMEZONE
END:VCALENDAR