BEGIN:VCALENDAR
VERSION:2.0
PRODID:-//wp-events-plugin.com//7.2.3.1//EN
TZID:Europe/London
X-WR-TIMEZONE:Europe/London
BEGIN:VEVENT
UID:38@marielwitmond.com
DTSTART;TZID=Europe/London:20211017T093000
DTEND;TZID=Europe/London:20211017T103000
DTSTAMP:20210930T082257Z
URL:https://marielwitmond.com/schedule/community-soul-flow-live-class-3/
SUMMARY:Community Soul Flow - Live Class
DESCRIPTION:
CATEGORIES:1 Hour Vinyasa,Live Classes,Yoga
LOCATION:https://kuula.tv/mindfulsonder/schedule
END:VEVENT
BEGIN:VTIMEZONE
TZID:Europe/London
X-LIC-LOCATION:Europe/London
BEGIN:DAYLIGHT
DTSTART:20210328T020000
TZOFFSETFROM:+0000
TZOFFSETTO:+0100
TZNAME:BST
END:DAYLIGHT
END:VTIMEZONE
END:VCALENDAR