BEGIN:VCALENDAR
VERSION:2.0
PRODID:-//wp-events-plugin.com//7.2.3.1//EN
TZID:Europe/London
X-WR-TIMEZONE:Europe/London
BEGIN:VEVENT
UID:78@marielwitmond.com
DTSTART;TZID=Europe/London:20220429T080000
DTEND;TZID=Europe/London:20220429T081500
DTSTAMP:20220420T115734Z
URL:https://marielwitmond.com/schedule/coaching-values-2/
SUMMARY:Coaching - "Values"
DESCRIPTION:
CATEGORIES:Coaching
LOCATION:https://kuula.tv/mindfulsonder/library/files/JHygKruR33ZOz50XXT0iO
 px2S88Sc7sxugc0VKtm
END:VEVENT
BEGIN:VTIMEZONE
TZID:Europe/London
X-LIC-LOCATION:Europe/London
BEGIN:DAYLIGHT
DTSTART:20220327T020000
TZOFFSETFROM:+0000
TZOFFSETTO:+0100
TZNAME:BST
END:DAYLIGHT
END:VTIMEZONE
END:VCALENDAR