BEGIN:VCALENDAR
VERSION:2.0
PRODID:-//wp-events-plugin.com//7.2.3.1//EN
TZID:Europe/London
X-WR-TIMEZONE:Europe/London
BEGIN:VEVENT
UID:96@marielwitmond.com
DTSTART;TZID=Europe/London:20220516T070000
DTEND;TZID=Europe/London:20220516T071500
DTSTAMP:20220421T120712Z
URL:https://marielwitmond.com/schedule/coaching-purpose-2/
SUMMARY:Coaching - Purpose
DESCRIPTION:
CATEGORIES:Coaching
LOCATION:https://kuula.tv/mindfulsonder/library/files/YU1M3xsCnskeRQI562Ra0
 KCjmLadm8E6KtFsu5Nb
END:VEVENT
BEGIN:VTIMEZONE
TZID:Europe/London
X-LIC-LOCATION:Europe/London
BEGIN:DAYLIGHT
DTSTART:20220327T020000
TZOFFSETFROM:+0000
TZOFFSETTO:+0100
TZNAME:BST
END:DAYLIGHT
END:VTIMEZONE
END:VCALENDAR