BEGIN:VCALENDAR
VERSION:2.0
PRODID:-//wp-events-plugin.com//7.2.3.1//EN
TZID:Europe/London
X-WR-TIMEZONE:Europe/London
BEGIN:VEVENT
UID:50@marielwitmond.com
DTSTART;TZID=Europe/London:20211029T100000
DTEND;TZID=Europe/London:20211029T103000
DTSTAMP:20210930T085104Z
URL:https://marielwitmond.com/schedule/coaching-goals/
SUMMARY:Coaching - Goals
DESCRIPTION:
CATEGORIES:Coaching
LOCATION:https://kuula.tv/mindfulsonder/library/files/naUhVD6aKNjpLhSZ8OJir
 pgTt8iqHuPSsa036Gxz
END:VEVENT
BEGIN:VTIMEZONE
TZID:Europe/London
X-LIC-LOCATION:Europe/London
BEGIN:DAYLIGHT
DTSTART:20210328T020000
TZOFFSETFROM:+0000
TZOFFSETTO:+0100
TZNAME:BST
END:DAYLIGHT
END:VTIMEZONE
END:VCALENDAR