BEGIN:VCALENDAR
VERSION:2.0
PRODID:-//wp-events-plugin.com//7.2.3.1//EN
TZID:Europe/London
X-WR-TIMEZONE:Europe/London
BEGIN:VEVENT
UID:8@marielwitmond.com
DTSTART;TZID=Europe/London:20210918T091500
DTEND;TZID=Europe/London:20210918T091500
DTSTAMP:20210914T083815Z
URL:https://marielwitmond.com/schedule/challenging-our-beliefs-meditation/
SUMMARY:Challenging Our Beliefs Meditation
DESCRIPTION:
CATEGORIES:Meditation
LOCATION:https://kuula.tv/mindfulsonder/library/files/xxCR0WIg3OpaclxIfPHJb
 2Bqo5llRY5tXUFbb6uq
END:VEVENT
BEGIN:VTIMEZONE
TZID:Europe/London
X-LIC-LOCATION:Europe/London
BEGIN:DAYLIGHT
DTSTART:20210328T020000
TZOFFSETFROM:+0000
TZOFFSETTO:+0100
TZNAME:BST
END:DAYLIGHT
END:VTIMEZONE
END:VCALENDAR