BEGIN:VCALENDAR
VERSION:2.0
PRODID:-//wp-events-plugin.com//7.2.3.1//EN
TZID:Europe/London
X-WR-TIMEZONE:Europe/London
BEGIN:VEVENT
UID:17@marielwitmond.com
DTSTART;TZID=Europe/London:20210927T080000
DTEND;TZID=Europe/London:20210927T081500
DTSTAMP:20210914T085136Z
URL:https://marielwitmond.com/schedule/chakra-meditation/
SUMMARY:Chakra Meditation
DESCRIPTION:
CATEGORIES:Meditation
LOCATION:https://kuula.tv/mindfulsonder/library/files/4zfsVInLhJJybZHLaAIGD
 B4krNYzEALMZ4UOpbaW
END:VEVENT
BEGIN:VTIMEZONE
TZID:Europe/London
X-LIC-LOCATION:Europe/London
BEGIN:DAYLIGHT
DTSTART:20210328T020000
TZOFFSETFROM:+0000
TZOFFSETTO:+0100
TZNAME:BST
END:DAYLIGHT
END:VTIMEZONE
END:VCALENDAR