BEGIN:VCALENDAR
VERSION:2.0
PRODID:-//wp-events-plugin.com//7.2.3.1//EN
TZID:Europe/London
X-WR-TIMEZONE:Europe/London
BEGIN:VEVENT
UID:86@marielwitmond.com
DTSTART;TZID=Europe/London:20220506T180000
DTEND;TZID=Europe/London:20220506T184500
DTSTAMP:20220421T115746Z
URL:https://marielwitmond.com/schedule/45-min-vinyasa-creating-space-2/
SUMMARY:45 Min Vinyasa - "Creating Space"
DESCRIPTION:
CATEGORIES:30-45 Min Vinyasa
LOCATION:https://kuula.tv/mindfulsonder/library/files/mESzXvSRn61yQTQ7BKdDf
 hEFmKtzxX5brLYaIF1Y
END:VEVENT
BEGIN:VTIMEZONE
TZID:Europe/London
X-LIC-LOCATION:Europe/London
BEGIN:DAYLIGHT
DTSTART:20220327T020000
TZOFFSETFROM:+0000
TZOFFSETTO:+0100
TZNAME:BST
END:DAYLIGHT
END:VTIMEZONE
END:VCALENDAR