BEGIN:VCALENDAR
VERSION:2.0
PRODID:-//wp-events-plugin.com//7.2.3.1//EN
TZID:Europe/London
X-WR-TIMEZONE:Europe/London
BEGIN:VEVENT
UID:72@marielwitmond.com
DTSTART;TZID=Europe/London:20220423T120000
DTEND;TZID=Europe/London:20220423T124500
DTSTAMP:20220420T115502Z
URL:https://marielwitmond.com/schedule/45-min-vinyasa-choice-2/
SUMMARY:45 Min Vinyasa - "Choice"
DESCRIPTION:
CATEGORIES:30-45 Min Vinyasa
LOCATION:https://kuula.tv/mindfulsonder/library/files/uqlQpbceacmUCvffza9Sw
 ASgULsMi9Lpl3rHpl3g
END:VEVENT
BEGIN:VTIMEZONE
TZID:Europe/London
X-LIC-LOCATION:Europe/London
BEGIN:DAYLIGHT
DTSTART:20220327T020000
TZOFFSETFROM:+0000
TZOFFSETTO:+0100
TZNAME:BST
END:DAYLIGHT
END:VTIMEZONE
END:VCALENDAR