BEGIN:VCALENDAR
VERSION:2.0
PRODID:-//wp-events-plugin.com//7.2.3.1//EN
TZID:Europe/London
X-WR-TIMEZONE:Europe/London
BEGIN:VEVENT
UID:42@marielwitmond.com
DTSTART;TZID=Europe/London:20211020T110000
DTEND;TZID=Europe/London:20211020T114500
DTSTAMP:20210930T083009Z
URL:https://marielwitmond.com/schedule/45-min-soulful-slow-flow/
SUMMARY:45 min - "Soulful Slow Flow"
DESCRIPTION:
CATEGORIES:Slow Flow/Yin
LOCATION:https://kuula.tv/mindfulsonder/library/files/eGVpWkRMWttq1SZf8zZIq
 4LFVui7RUpN25hnpZZ7
END:VEVENT
BEGIN:VTIMEZONE
TZID:Europe/London
X-LIC-LOCATION:Europe/London
BEGIN:DAYLIGHT
DTSTART:20210328T020000
TZOFFSETFROM:+0000
TZOFFSETTO:+0100
TZNAME:BST
END:DAYLIGHT
END:VTIMEZONE
END:VCALENDAR