BEGIN:VCALENDAR
VERSION:2.0
PRODID:-//wp-events-plugin.com//7.2.3.1//EN
TZID:Europe/London
X-WR-TIMEZONE:Europe/London
BEGIN:VEVENT
UID:51@marielwitmond.com
DTSTART;TZID=Europe/London:20211030T090000
DTEND;TZID=Europe/London:20211030T094500
DTSTAMP:20210930T085349Z
URL:https://marielwitmond.com/schedule/45-min-slow-nourishing/
SUMMARY:45 min - "Slow & Nourishing"
DESCRIPTION:
CATEGORIES:30-45 Min Vinyasa
LOCATION:https://kuula.tv/mindfulsonder/library/files/aRMEkibgCgvGmWaQ6PJXg
 RNhEXIHa5ff5gF16HFT
END:VEVENT
BEGIN:VTIMEZONE
TZID:Europe/London
X-LIC-LOCATION:Europe/London
BEGIN:DAYLIGHT
DTSTART:20210328T020000
TZOFFSETFROM:+0000
TZOFFSETTO:+0100
TZNAME:BST
END:DAYLIGHT
END:VTIMEZONE
END:VCALENDAR