BEGIN:VCALENDAR
VERSION:2.0
PRODID:-//wp-events-plugin.com//7.2.3.1//EN
TZID:Europe/London
X-WR-TIMEZONE:Europe/London
BEGIN:VEVENT
UID:25@marielwitmond.com
DTSTART;TZID=Europe/London:20211004T180000
DTEND;TZID=Europe/London:20211004T184500
DTSTAMP:20210926T122633Z
URL:https://marielwitmond.com/schedule/45-min-mellow-flow-for-back-pain/
SUMMARY:45 min - "Mellow Flow for Back Pain"
DESCRIPTION:
CATEGORIES:Slow Flow/Yin
LOCATION:https://kuula.tv/mindfulsonder/class/NqWFpTppoqu3SZb8In5oNT1nuTdnS
 Y6Z7hIAs9ph
END:VEVENT
BEGIN:VTIMEZONE
TZID:Europe/London
X-LIC-LOCATION:Europe/London
BEGIN:DAYLIGHT
DTSTART:20210328T020000
TZOFFSETFROM:+0000
TZOFFSETTO:+0100
TZNAME:BST
END:DAYLIGHT
END:VTIMEZONE
END:VCALENDAR