BEGIN:VCALENDAR
VERSION:2.0
PRODID:-//wp-events-plugin.com//7.2.3.1//EN
TZID:Europe/London
X-WR-TIMEZONE:Europe/London
BEGIN:VEVENT
UID:75@marielwitmond.com
DTSTART;TZID=Europe/London:20220426T070000
DTEND;TZID=Europe/London:20220426T074500
DTSTAMP:20220420T115624Z
URL:https://marielwitmond.com/schedule/45-min-hiit-yoga-the-space-between-
 2/
SUMMARY:45 Min Hiit Yoga - "The Space Between"
DESCRIPTION:
CATEGORIES:30-45 Min Vinyasa
LOCATION:https://kuula.tv/mindfulsonder/library/files/skCMRwKyX5eXqPMIBDlVa
 fwS3DIPwlz1bPXoByoB
END:VEVENT
BEGIN:VTIMEZONE
TZID:Europe/London
X-LIC-LOCATION:Europe/London
BEGIN:DAYLIGHT
DTSTART:20220327T020000
TZOFFSETFROM:+0000
TZOFFSETTO:+0100
TZNAME:BST
END:DAYLIGHT
END:VTIMEZONE
END:VCALENDAR