BEGIN:VCALENDAR
VERSION:2.0
PRODID:-//wp-events-plugin.com//7.2.3.1//EN
TZID:Europe/London
X-WR-TIMEZONE:Europe/London
BEGIN:VEVENT
UID:43@marielwitmond.com
DTSTART;TZID=Europe/London:20211021T070000
DTEND;TZID=Europe/London:20211021T074500
DTSTAMP:20210930T083811Z
URL:https://marielwitmond.com/schedule/45-min-hiit-strength-in-gratitude/
SUMMARY:45 min Hiit - "Strength in Gratitude"
DESCRIPTION:
CATEGORIES:Hiit Power Yoga/Functional Movement
LOCATION:https://kuula.tv/mindfulsonder/library/files/f4GiulXruSawxKQfrlK4q
 drgzNR76GgVOVcANyw3
END:VEVENT
BEGIN:VTIMEZONE
TZID:Europe/London
X-LIC-LOCATION:Europe/London
BEGIN:DAYLIGHT
DTSTART:20210328T020000
TZOFFSETFROM:+0000
TZOFFSETTO:+0100
TZNAME:BST
END:DAYLIGHT
END:VTIMEZONE
END:VCALENDAR