BEGIN:VCALENDAR
VERSION:2.0
PRODID:-//wp-events-plugin.com//7.2.3.1//EN
TZID:Europe/London
X-WR-TIMEZONE:Europe/London
BEGIN:VEVENT
UID:47@marielwitmond.com
DTSTART;TZID=Europe/London:20211026T120000
DTEND;TZID=Europe/London:20211026T124500
DTSTAMP:20210930T084653Z
URL:https://marielwitmond.com/schedule/45-min-hiit-lighten-the-load/
SUMMARY:45 min Hiit - Lighten the Load
DESCRIPTION:
CATEGORIES:Hiit Power Yoga/Functional Movement
LOCATION:https://kuula.tv/mindfulsonder/library/files/bkc9LtHziC54d0jTqMBxg
 kl1wEyZQpyhncm6V2na
END:VEVENT
BEGIN:VTIMEZONE
TZID:Europe/London
X-LIC-LOCATION:Europe/London
BEGIN:DAYLIGHT
DTSTART:20210328T020000
TZOFFSETFROM:+0000
TZOFFSETTO:+0100
TZNAME:BST
END:DAYLIGHT
END:VTIMEZONE
END:VCALENDAR