BEGIN:VCALENDAR
VERSION:2.0
PRODID:-//wp-events-plugin.com//7.2.3.1//EN
TZID:Europe/London
X-WR-TIMEZONE:Europe/London
BEGIN:VEVENT
UID:54@marielwitmond.com
DTSTART;TZID=Europe/London:20211103T120000
DTEND;TZID=Europe/London:20211103T124500
DTSTAMP:20211101T152211Z
URL:https://marielwitmond.com/schedule/45-min-hiit-grow-through-what-you-g
 o-through/
SUMMARY:45 Min Hiit - Grow Through What You Go Through
DESCRIPTION:
CATEGORIES:Hiit Power Yoga/Functional Movement
LOCATION:https://kuula.tv/mindfulsonder/library/files/ZvGw4pNzy7o6EP7fJHrTa
 inLtKNaCC3yaxTXFXaX
END:VEVENT
BEGIN:VTIMEZONE
TZID:Europe/London
X-LIC-LOCATION:Europe/London
BEGIN:STANDARD
DTSTART:20211031T010000
TZOFFSETFROM:+0100
TZOFFSETTO:+0000
TZNAME:GMT
END:STANDARD
END:VTIMEZONE
END:VCALENDAR