BEGIN:VCALENDAR
VERSION:2.0
PRODID:-//wp-events-plugin.com//7.2.3.1//EN
TZID:Europe/London
X-WR-TIMEZONE:Europe/London
BEGIN:VEVENT
UID:71@marielwitmond.com
DTSTART;TZID=Europe/London:20220422T000000
DTEND;TZID=Europe/London:20220422T000000
DTSTAMP:20220420T115436Z
URL:https://marielwitmond.com/schedule/45-min-hiit-be-your-own-hero-3/
SUMMARY:45 Min Hiit - Be Your Own Hero
DESCRIPTION:
CATEGORIES:Hiit Power Yoga/Functional Movement
LOCATION:https://kuula.tv/mindfulsonder/library/files/UPRRQshh8DF62PM0BBQk9
 hFAovBoXpBZPvalZXSN
END:VEVENT
BEGIN:VTIMEZONE
TZID:Europe/London
X-LIC-LOCATION:Europe/London
BEGIN:DAYLIGHT
DTSTART:20220327T020000
TZOFFSETFROM:+0000
TZOFFSETTO:+0100
TZNAME:BST
END:DAYLIGHT
END:VTIMEZONE
END:VCALENDAR