BEGIN:VCALENDAR
VERSION:2.0
PRODID:-//wp-events-plugin.com//7.2.3.1//EN
TZID:Europe/London
X-WR-TIMEZONE:Europe/London
BEGIN:VEVENT
UID:61@marielwitmond.com
DTSTART;TZID=Europe/London:20211108T120000
DTEND;TZID=Europe/London:20211108T124500
DTSTAMP:20211101T154916Z
URL:https://marielwitmond.com/schedule/45-min-hiit-be-your-own-hero-2/
SUMMARY:45 Min Hiit - Be Your Own Hero
DESCRIPTION:
CATEGORIES:Hiit Power Yoga/Functional Movement
LOCATION:https://kuula.tv/mindfulsonder/library/files/UPRRQshh8DF62PM0BBQk9
 hFAovBoXpBZPvalZXSN
END:VEVENT
BEGIN:VTIMEZONE
TZID:Europe/London
X-LIC-LOCATION:Europe/London
BEGIN:STANDARD
DTSTART:20211031T010000
TZOFFSETFROM:+0100
TZOFFSETTO:+0000
TZNAME:GMT
END:STANDARD
END:VTIMEZONE
END:VCALENDAR