BEGIN:VCALENDAR
VERSION:2.0
PRODID:-//wp-events-plugin.com//7.2.3.1//EN
TZID:Europe/London
X-WR-TIMEZONE:Europe/London
BEGIN:VEVENT
UID:93@marielwitmond.com
DTSTART;TZID=Europe/London:20220513T183000
DTEND;TZID=Europe/London:20220513T191500
DTSTAMP:20220421T120533Z
URL:https://marielwitmond.com/schedule/45-min-full-body-mot-2/
SUMMARY:45 min - Full Body MOT
DESCRIPTION:
CATEGORIES:30-45 Min Vinyasa
LOCATION:https://kuula.tv/mindfulsonder/library/files/VndfO7ZZkaO82V2RsW2SJ
 IvFPcKqZPhqKPCvW7QW
END:VEVENT
BEGIN:VTIMEZONE
TZID:Europe/London
X-LIC-LOCATION:Europe/London
BEGIN:DAYLIGHT
DTSTART:20220327T020000
TZOFFSETFROM:+0000
TZOFFSETTO:+0100
TZNAME:BST
END:DAYLIGHT
END:VTIMEZONE
END:VCALENDAR