BEGIN:VCALENDAR
VERSION:2.0
PRODID:-//wp-events-plugin.com//7.2.3.1//EN
TZID:Europe/London
X-WR-TIMEZONE:Europe/London
BEGIN:VEVENT
UID:74@marielwitmond.com
DTSTART;TZID=Europe/London:20220425T080000
DTEND;TZID=Europe/London:20220425T084500
DTSTAMP:20220420T115547Z
URL:https://marielwitmond.com/schedule/45-min-body-love-slow-flow-2/
SUMMARY:45 Min - "Body Love Slow Flow"
DESCRIPTION:
CATEGORIES:Slow Flow/Yin
LOCATION:https://kuula.tv/mindfulsonder/library/files/4po2L6FHj2CG62BHKO4pJ
 g8UAqi3UtdguLLu97Q5
END:VEVENT
BEGIN:VTIMEZONE
TZID:Europe/London
X-LIC-LOCATION:Europe/London
BEGIN:DAYLIGHT
DTSTART:20220327T020000
TZOFFSETFROM:+0000
TZOFFSETTO:+0100
TZNAME:BST
END:DAYLIGHT
END:VTIMEZONE
END:VCALENDAR