BEGIN:VCALENDAR
VERSION:2.0
PRODID:-//wp-events-plugin.com//7.2.3.1//EN
TZID:Europe/London
X-WR-TIMEZONE:Europe/London
BEGIN:VEVENT
UID:57@marielwitmond.com
DTSTART;TZID=Europe/London:20211106T090000
DTEND;TZID=Europe/London:20211106T093000
DTSTAMP:20211101T153351Z
URL:https://marielwitmond.com/schedule/30-minute-spinal-mobility/
SUMMARY:30 Minute - Spinal Mobility
DESCRIPTION:
CATEGORIES:30-45 Min Vinyasa
LOCATION:https://kuula.tv/mindfulsonder/library/files/WXmghWU4apIqzAlJiLWVw
 NH2F2VwWdtWYflk7FSU
END:VEVENT
BEGIN:VTIMEZONE
TZID:Europe/London
X-LIC-LOCATION:Europe/London
BEGIN:STANDARD
DTSTART:20211031T010000
TZOFFSETFROM:+0100
TZOFFSETTO:+0000
TZNAME:GMT
END:STANDARD
END:VTIMEZONE
END:VCALENDAR