BEGIN:VCALENDAR
VERSION:2.0
PRODID:-//wp-events-plugin.com//7.2.3.1//EN
TZID:Europe/London
X-WR-TIMEZONE:Europe/London
BEGIN:VEVENT
UID:33@marielwitmond.com
DTSTART;TZID=Europe/London:20211012T080000
DTEND;TZID=Europe/London:20211012T083000
DTSTAMP:20210930T072259Z
URL:https://marielwitmond.com/schedule/30-minute-hip-flexor-hamstrings/
SUMMARY:30 Minute - Hip Flexor & Hamstrings
DESCRIPTION:
CATEGORIES:30-45 Min Vinyasa
LOCATION:https://kuula.tv/mindfulsonder/library/files/UsCk8jJRCcyQJjFtQzedt
 G67DRqcGS7er8QIxWIm
END:VEVENT
BEGIN:VTIMEZONE
TZID:Europe/London
X-LIC-LOCATION:Europe/London
BEGIN:DAYLIGHT
DTSTART:20210328T020000
TZOFFSETFROM:+0000
TZOFFSETTO:+0100
TZNAME:BST
END:DAYLIGHT
END:VTIMEZONE
END:VCALENDAR