BEGIN:VCALENDAR
VERSION:2.0
PRODID:-//wp-events-plugin.com//7.2.3.1//EN
TZID:Europe/London
X-WR-TIMEZONE:Europe/London
BEGIN:VEVENT
UID:97@marielwitmond.com
DTSTART;TZID=Europe/London:20220517T080000
DTEND;TZID=Europe/London:20220517T083000
DTSTAMP:20220421T120733Z
URL:https://marielwitmond.com/schedule/30-minute-hip-flexor-hamstrings-2/
SUMMARY:30 Minute - Hip Flexor & Hamstrings
DESCRIPTION:
CATEGORIES:30-45 Min Vinyasa
LOCATION:https://kuula.tv/mindfulsonder/library/files/UsCk8jJRCcyQJjFtQzedt
 G67DRqcGS7er8QIxWIm
END:VEVENT
BEGIN:VTIMEZONE
TZID:Europe/London
X-LIC-LOCATION:Europe/London
BEGIN:DAYLIGHT
DTSTART:20220327T020000
TZOFFSETFROM:+0000
TZOFFSETTO:+0100
TZNAME:BST
END:DAYLIGHT
END:VTIMEZONE
END:VCALENDAR