BEGIN:VCALENDAR
VERSION:2.0
PRODID:-//wp-events-plugin.com//7.2.3.1//EN
TZID:Europe/London
X-WR-TIMEZONE:Europe/London
BEGIN:VEVENT
UID:82@marielwitmond.com
DTSTART;TZID=Europe/London:20220503T083000
DTEND;TZID=Europe/London:20220503T090000
DTSTAMP:20220421T115226Z
URL:https://marielwitmond.com/schedule/30-min-plank-drills-2/
SUMMARY:30 Min - Plank Drills
DESCRIPTION:
CATEGORIES:30-45 Min Vinyasa
LOCATION:https://kuula.tv/mindfulsonder/library/files/d23BCtJ9WK1lTGXuUe1H1
 pS22MpLMpAMe0yGBTZn
END:VEVENT
BEGIN:VTIMEZONE
TZID:Europe/London
X-LIC-LOCATION:Europe/London
BEGIN:DAYLIGHT
DTSTART:20220327T020000
TZOFFSETFROM:+0000
TZOFFSETTO:+0100
TZNAME:BST
END:DAYLIGHT
END:VTIMEZONE
END:VCALENDAR