BEGIN:VCALENDAR
VERSION:2.0
PRODID:-//wp-events-plugin.com//7.2.3.1//EN
TZID:Europe/London
X-WR-TIMEZONE:Europe/London
BEGIN:VEVENT
UID:94@marielwitmond.com
DTSTART;TZID=Europe/London:20220514T070000
DTEND;TZID=Europe/London:20220514T074500
DTSTAMP:20220421T120552Z
URL:https://marielwitmond.com/schedule/30-min-glutes-2/
SUMMARY:30 min - Glutes
DESCRIPTION:
CATEGORIES:30-45 Min Vinyasa
LOCATION:http://30%20min%20-%20Glutes
END:VEVENT
BEGIN:VTIMEZONE
TZID:Europe/London
X-LIC-LOCATION:Europe/London
BEGIN:DAYLIGHT
DTSTART:20220327T020000
TZOFFSETFROM:+0000
TZOFFSETTO:+0100
TZNAME:BST
END:DAYLIGHT
END:VTIMEZONE
END:VCALENDAR