BEGIN:VCALENDAR
VERSION:2.0
PRODID:-//wp-events-plugin.com//7.2.3.1//EN
TZID:Europe/London
X-WR-TIMEZONE:Europe/London
BEGIN:VEVENT
UID:5@marielwitmond.com
DTSTART;TZID=Europe/London:20210915T070000
DTEND;TZID=Europe/London:20210915T070000
DTSTAMP:20210914T082912Z
URL:https://marielwitmond.com/schedule/30-min-core/
SUMMARY:30 Min - Core Drills
DESCRIPTION:
CATEGORIES:30-45 Min Vinyasa
LOCATION:https://kuula.tv/mindfulsonder/library/files/MYBj3lvvTkzgpSGuD97yd
 O2uKL0qusOKd54LW30s
END:VEVENT
BEGIN:VTIMEZONE
TZID:Europe/London
X-LIC-LOCATION:Europe/London
BEGIN:DAYLIGHT
DTSTART:20210328T020000
TZOFFSETFROM:+0000
TZOFFSETTO:+0100
TZNAME:BST
END:DAYLIGHT
END:VTIMEZONE
END:VCALENDAR