BEGIN:VCALENDAR
VERSION:2.0
PRODID:-//wp-events-plugin.com//7.2.3.1//EN
TZID:Europe/London
X-WR-TIMEZONE:Europe/London
BEGIN:VEVENT
UID:44@marielwitmond.com
DTSTART;TZID=Europe/London:20211022T180000
DTEND;TZID=Europe/London:20211022T190000
DTSTAMP:20210930T083948Z
URL:https://marielwitmond.com/schedule/1hr-vinyasa-the-grass-is-greener-wh
 ere-you-water-it/
SUMMARY:1hr Vinyasa - "The Grass Is Greener Where You Water It"
DESCRIPTION:
CATEGORIES:1 Hour Vinyasa
LOCATION:https://kuula.tv/mindfulsonder/library/files/Nz96l8bOMLyMFLoiwuEw7
 rclHbZbdEyj4YwZarIN
END:VEVENT
BEGIN:VTIMEZONE
TZID:Europe/London
X-LIC-LOCATION:Europe/London
BEGIN:DAYLIGHT
DTSTART:20210328T020000
TZOFFSETFROM:+0000
TZOFFSETTO:+0100
TZNAME:BST
END:DAYLIGHT
END:VTIMEZONE
END:VCALENDAR