BEGIN:VCALENDAR
VERSION:2.0
PRODID:-//wp-events-plugin.com//7.2.3.1//EN
TZID:Europe/London
X-WR-TIMEZONE:Europe/London
BEGIN:VEVENT
UID:70@marielwitmond.com
DTSTART;TZID=Europe/London:20220421T180000
DTEND;TZID=Europe/London:20220421T190000
DTSTAMP:20220420T115323Z
URL:https://marielwitmond.com/schedule/1hr-vinyasa-fly-like-an-eagle/
SUMMARY:1hr Vinyasa - "Fly Like an Eagle"
DESCRIPTION:This creative sequence is one of my favourites\, incorporating 
 Eagle pose into different variations of the posture as we work with fun tr
 ansitions.
CATEGORIES:1 Hour Vinyasa
LOCATION:https://kuula.tv/mindfulsonder/library/files/Zw0DB4Gn5WigYYSRgY403
 0QOj2OgRXiu1hHBo087
END:VEVENT
BEGIN:VTIMEZONE
TZID:Europe/London
X-LIC-LOCATION:Europe/London
BEGIN:DAYLIGHT
DTSTART:20220327T020000
TZOFFSETFROM:+0000
TZOFFSETTO:+0100
TZNAME:BST
END:DAYLIGHT
END:VTIMEZONE
END:VCALENDAR