BEGIN:VCALENDAR
VERSION:2.0
PRODID:-//wp-events-plugin.com//7.2.3.1//EN
TZID:Europe/London
X-WR-TIMEZONE:Europe/London
BEGIN:VEVENT
UID:26@marielwitmond.com
DTSTART;TZID=Europe/London:20211005T070000
DTEND;TZID=Europe/London:20211005T071500
DTSTAMP:20210926T122818Z
URL:https://marielwitmond.com/schedule/15-min-quick-oblique-blast/
SUMMARY:15 min - "Quick Oblique Blast"
DESCRIPTION:
CATEGORIES:15 Min Quick Fix
LOCATION:https://kuula.tv/mindfulsonder/library/files/k4njPCoL36vbtXUBhjQiH
 5HmFWItpxBayUpprX7G
END:VEVENT
BEGIN:VTIMEZONE
TZID:Europe/London
X-LIC-LOCATION:Europe/London
BEGIN:DAYLIGHT
DTSTART:20210328T020000
TZOFFSETFROM:+0000
TZOFFSETTO:+0100
TZNAME:BST
END:DAYLIGHT
END:VTIMEZONE
END:VCALENDAR