BEGIN:VCALENDAR
VERSION:2.0
PRODID:-//wp-events-plugin.com//7.2.3.1//EN
TZID:Europe/London
X-WR-TIMEZONE:Europe/London
BEGIN:VEVENT
UID:36@marielwitmond.com
DTSTART;TZID=Europe/London:20211016T100000
DTEND;TZID=Europe/London:20211016T101500
DTSTAMP:20210930T072838Z
URL:https://marielwitmond.com/schedule/15-min-quick-hiit/
SUMMARY:15 Min - Quick Hiit
DESCRIPTION:
CATEGORIES:15 Min Quick Fix
LOCATION:https://kuula.tv/mindfulsonder/library/files/X0BFAszrpNzNHDUA0E5gK
 16QbCtV4W1DiraH2ygz
END:VEVENT
BEGIN:VTIMEZONE
TZID:Europe/London
X-LIC-LOCATION:Europe/London
BEGIN:DAYLIGHT
DTSTART:20210328T020000
TZOFFSETFROM:+0000
TZOFFSETTO:+0100
TZNAME:BST
END:DAYLIGHT
END:VTIMEZONE
END:VCALENDAR