BEGIN:VCALENDAR
VERSION:2.0
PRODID:-//wp-events-plugin.com//7.2.3.1//EN
TZID:Europe/London
X-WR-TIMEZONE:Europe/London
BEGIN:VEVENT
UID:11@marielwitmond.com
DTSTART;TZID=Europe/London:20210921T110000
DTEND;TZID=Europe/London:20210921T111500
DTSTAMP:20210914T084240Z
URL:https://marielwitmond.com/schedule/15-min-legs/
SUMMARY:15 Min - Legs
DESCRIPTION:
CATEGORIES:15 Min Quick Fix
LOCATION:https://kuula.tv/mindfulsonder/library/files/NKQJRW9bfiOxtNvGhglvr
 YWDv3EJIc6Cvkr6OvmK
END:VEVENT
BEGIN:VTIMEZONE
TZID:Europe/London
X-LIC-LOCATION:Europe/London
BEGIN:DAYLIGHT
DTSTART:20210328T020000
TZOFFSETFROM:+0000
TZOFFSETTO:+0100
TZNAME:BST
END:DAYLIGHT
END:VTIMEZONE
END:VCALENDAR