BEGIN:VCALENDAR
VERSION:2.0
PRODID:-//wp-events-plugin.com//7.2.3.1//EN
TZID:Europe/London
X-WR-TIMEZONE:Europe/London
BEGIN:VEVENT
UID:79@marielwitmond.com
DTSTART;TZID=Europe/London:20220430T110000
DTEND;TZID=Europe/London:20220430T111500
DTSTAMP:20220420T115754Z
URL:https://marielwitmond.com/schedule/15-min-legs-2/
SUMMARY:15 Min - Legs
DESCRIPTION:
CATEGORIES:15 Min Quick Fix
LOCATION:https://kuula.tv/mindfulsonder/library/files/NKQJRW9bfiOxtNvGhglvr
 YWDv3EJIc6Cvkr6OvmK
END:VEVENT
BEGIN:VTIMEZONE
TZID:Europe/London
X-LIC-LOCATION:Europe/London
BEGIN:DAYLIGHT
DTSTART:20220327T020000
TZOFFSETFROM:+0000
TZOFFSETTO:+0100
TZNAME:BST
END:DAYLIGHT
END:VTIMEZONE
END:VCALENDAR