BEGIN:VCALENDAR
VERSION:2.0
PRODID:-//wp-events-plugin.com//7.2.3.1//EN
TZID:Europe/London
X-WR-TIMEZONE:Europe/London
BEGIN:VEVENT
UID:49@marielwitmond.com
DTSTART;TZID=Europe/London:20211028T090000
DTEND;TZID=Europe/London:20211028T091500
DTSTAMP:20210930T084936Z
URL:https://marielwitmond.com/schedule/15-min-ankle-mobility/
SUMMARY:15 min - Ankle Mobility
DESCRIPTION:
CATEGORIES:15 Min Quick Fix
LOCATION:https://kuula.tv/mindfulsonder/library/files/u7FEYRkFsUPogxHlyn4RZ
 9dKkWkNkkFuxXcKTvtD
END:VEVENT
BEGIN:VTIMEZONE
TZID:Europe/London
X-LIC-LOCATION:Europe/London
BEGIN:DAYLIGHT
DTSTART:20210328T020000
TZOFFSETFROM:+0000
TZOFFSETTO:+0100
TZNAME:BST
END:DAYLIGHT
END:VTIMEZONE
END:VCALENDAR