BEGIN:VCALENDAR
VERSION:2.0
PRODID:-//wp-events-plugin.com//7.2.3.1//EN
TZID:Europe/London
X-WR-TIMEZONE:Europe/London
BEGIN:VEVENT
UID:83@marielwitmond.com
DTSTART;TZID=Europe/London:20220504T170000
DTEND;TZID=Europe/London:20220504T180000
DTSTAMP:20220421T115616Z
URL:https://marielwitmond.com/schedule/1-hr-yin-twists-2/
SUMMARY:1 hr Yin - Twists
DESCRIPTION:
CATEGORIES:Slow Flow/Yin
LOCATION:https://kuula.tv/mindfulsonder/library/files/DwEepRstZgR2ORdBmvzA5
 8gk9Dn7mCTTE7z3stmf
END:VEVENT
BEGIN:VTIMEZONE
TZID:Europe/London
X-LIC-LOCATION:Europe/London
BEGIN:DAYLIGHT
DTSTART:20220327T020000
TZOFFSETFROM:+0000
TZOFFSETTO:+0100
TZNAME:BST
END:DAYLIGHT
END:VTIMEZONE
END:VCALENDAR