BEGIN:VCALENDAR
VERSION:2.0
PRODID:-//wp-events-plugin.com//7.2.3.1//EN
TZID:Europe/London
X-WR-TIMEZONE:Europe/London
BEGIN:VEVENT
UID:63@marielwitmond.com
DTSTART;TZID=Europe/London:20211111T190000
DTEND;TZID=Europe/London:20211111T200000
DTSTAMP:20211101T155553Z
URL:https://marielwitmond.com/schedule/1-hr-yin-let-go/
SUMMARY:1 Hr Yin - Let Go
DESCRIPTION:
CATEGORIES:Slow Flow/Yin
LOCATION:https://kuula.tv/mindfulsonder/library/files/ZLZN4O0z9oW9PmOCN6ros
 xkVcJu61Up1RI6KgPjl
END:VEVENT
BEGIN:VTIMEZONE
TZID:Europe/London
X-LIC-LOCATION:Europe/London
BEGIN:STANDARD
DTSTART:20211031T010000
TZOFFSETFROM:+0100
TZOFFSETTO:+0000
TZNAME:GMT
END:STANDARD
END:VTIMEZONE
END:VCALENDAR