BEGIN:VCALENDAR
VERSION:2.0
PRODID:-//wp-events-plugin.com//7.2.3.1//EN
TZID:Europe/London
X-WR-TIMEZONE:Europe/London
BEGIN:VEVENT
UID:98@marielwitmond.com
DTSTART;TZID=Europe/London:20220518T093000
DTEND;TZID=Europe/London:20220518T103000
DTSTAMP:20220421T120750Z
URL:https://marielwitmond.com/schedule/1-hr-vinyasa-tweak-your-obliques-2/
SUMMARY:1 hr Vinyasa - "Tweak Your Obliques"
DESCRIPTION:
CATEGORIES:1 Hour Vinyasa
LOCATION:https://kuula.tv/mindfulsonder/library/files/Sc8FeBrnjGfVW7exgSb7Z
 W6TSTWZx5MMSLX3afmi
END:VEVENT
BEGIN:VTIMEZONE
TZID:Europe/London
X-LIC-LOCATION:Europe/London
BEGIN:DAYLIGHT
DTSTART:20220327T020000
TZOFFSETFROM:+0000
TZOFFSETTO:+0100
TZNAME:BST
END:DAYLIGHT
END:VTIMEZONE
END:VCALENDAR