BEGIN:VCALENDAR
VERSION:2.0
PRODID:-//wp-events-plugin.com//7.2.3.1//EN
TZID:Europe/London
X-WR-TIMEZONE:Europe/London
BEGIN:VEVENT
UID:52@marielwitmond.com
DTSTART;TZID=Europe/London:20211101T180000
DTEND;TZID=Europe/London:20211101T190000
DTSTAMP:20211101T151614Z
URL:https://marielwitmond.com/schedule/1-hr-vinyasa-mobility-strength-for-
 anxiety/
SUMMARY:1 hr Vinyasa - Mobility & Strength for Anxiety
DESCRIPTION:
CATEGORIES:1 Hour Vinyasa
LOCATION:https://kuula.tv/mindfulsonder/library/files/DPipi7KDhSZ0eDDlt6jgP
 2nebFa2vZ8QOciPjYzH
END:VEVENT
BEGIN:VTIMEZONE
TZID:Europe/London
X-LIC-LOCATION:Europe/London
BEGIN:STANDARD
DTSTART:20211031T010000
TZOFFSETFROM:+0100
TZOFFSETTO:+0000
TZNAME:GMT
END:STANDARD
END:VTIMEZONE
END:VCALENDAR